BEGIN:VCALENDAR
VERSION:2.0
PRODID:-//Plone.org//NONSGML plone.app.event//EN
X-WR-TIMEZONE:Europe/Madrid
BEGIN:VEVENT
SUMMARY:Coneixements del món laboral per a persones nouvingudes
DTSTART;TZID=Europe/Madrid;VALUE=DATE-TIME:20170515T180000
DTEND;TZID=Europe/Madrid;VALUE=DATE-TIME:20170515T190000
DTSTAMP;VALUE=DATE-TIME:20260423T175008Z
UID:16bfb2358befe57e4cbd96a5a034c94c
CREATED;VALUE=DATE-TIME:20170515T000000Z
CATEGORIES:Cursos
LOCATION:Sala Gran d'entitats del C.C. Calisay - Riera Pare Fita, 31
ORGANIZER:Consell Comarcal del Maresme
COMMENT:Durada: Fins al 12 de juny de 2017, dimarts i dijous de 18h a 20h
DESCRIPTION:Realització del mòdul B
URL:https://arenysdemar.cat/document.php?id=33221
END:VEVENT
END:VCALENDAR