BEGIN:VCALENDAR
VERSION:2.0
PRODID:-//Plone.org//NONSGML plone.app.event//EN
X-WR-TIMEZONE:Europe/Madrid
BEGIN:VEVENT
SUMMARY:Batalla orquestral
DTSTART;TZID=Europe/Madrid;VALUE=DATE-TIME:20170707T233000
DTEND;TZID=Europe/Madrid;VALUE=DATE-TIME:20170708T003000
DTSTAMP;VALUE=DATE-TIME:20260422T130935Z
UID:5648ee9c5098ade5a9203cbc6eb203ca
CREATED;VALUE=DATE-TIME:20170707T000000Z
CATEGORIES:Festa
LOCATION:Riera zona nova coberta
ORGANIZER:Ajuntament d'Arenys de Mar - Regidoria de Festes
DESCRIPTION:amb The Swing Solutions i Exel Grup
URL:https://arenysdemar.cat/document.php?id=33314
END:VEVENT
END:VCALENDAR