BEGIN:VCALENDAR
VERSION:2.0
PRODID:-//Plone.org//NONSGML plone.app.event//EN
X-WR-TIMEZONE:Europe/Madrid
BEGIN:VEVENT
SUMMARY:Ball de Festa Major
DTSTART;TZID=Europe/Madrid;VALUE=DATE-TIME:20170708T233000
DTEND;TZID=Europe/Madrid;VALUE=DATE-TIME:20170709T003000
DTSTAMP;VALUE=DATE-TIME:20260422T143852Z
UID:e1206f64df19a9f9a69a59ebb33fd622
CREATED;VALUE=DATE-TIME:20170708T000000Z
CATEGORIES:Música
LOCATION:Riera zona nova coberta
DESCRIPTION:amb l'orquestra Selvatana
URL:https://arenysdemar.cat/document.php?id=33317
END:VEVENT
END:VCALENDAR