BEGIN:VCALENDAR
VERSION:2.0
PRODID:-//Plone.org//NONSGML plone.app.event//EN
X-WR-TIMEZONE:Europe/Madrid
BEGIN:VEVENT
SUMMARY:Teatre: L'hostalera de Carlo Goldoni
DTSTART;TZID=Europe/Madrid;VALUE=DATE-TIME:20170707T220000
DTEND;TZID=Europe/Madrid;VALUE=DATE-TIME:20170707T230000
DTSTAMP;VALUE=DATE-TIME:20260422T130305Z
UID:c4be26283d33cd1b1ba0ee318c5c28d4
CREATED;VALUE=DATE-TIME:20170707T000000Z
CATEGORIES:Teatre
LOCATION:Teatre Principal - C. Església, 45-47
ORGANIZER:S.C. L'Esperança, G.A.C.X i Regidoria de Cultura
COMMENT:Preu: 8 anticipada, 10 taquilla i 7 socis
DESCRIPTION:a càrrec del Grup Artístic Carles Xena
URL:https://arenysdemar.cat/document.php?id=33374
END:VEVENT
END:VCALENDAR