BEGIN:VCALENDAR
VERSION:2.0
PRODID:-//Plone.org//NONSGML plone.app.event//EN
X-WR-TIMEZONE:Europe/Madrid
BEGIN:VEVENT
SUMMARY:Fase deliberativa Pressupost Participatiu 2018
DTSTART;TZID=Europe/Madrid;VALUE=DATE-TIME:20170701T103000
DTEND;TZID=Europe/Madrid;VALUE=DATE-TIME:20170701T113000
DTSTAMP;VALUE=DATE-TIME:20260420T082813Z
UID:cd8c22d055f7d74e8a0cfd362acbddb7
CREATED;VALUE=DATE-TIME:20170701T000000Z
CATEGORIES:Mostra
LOCATION:Sala Josep Maria Arnau del C.C.Calisay - Riera del Pare Fita, 31
ORGANIZER:Regidoria de Participació
DESCRIPTION:Tallers de debat de les propostes de Promoció Econòmica, Seguretat Ciutadana,Turisme i Fires i Mobilitat
URL:https://arenysdemar.cat/document.php?id=33549
END:VEVENT
END:VCALENDAR