BEGIN:VCALENDAR
VERSION:2.0
PRODID:-//Plone.org//NONSGML plone.app.event//EN
X-WR-TIMEZONE:Europe/Madrid
BEGIN:VEVENT
SUMMARY:Torneig de billar a tres bandes
DTSTART;TZID=Europe/Madrid;VALUE=DATE-TIME:20170815T100000
DTEND;TZID=Europe/Madrid;VALUE=DATE-TIME:20170815T110000
DTSTAMP;VALUE=DATE-TIME:20260421T172506Z
UID:e84f9bbb7914d935d81a50826d9baf02
CREATED;VALUE=DATE-TIME:20170815T000000Z
CATEGORIES:Esports
LOCATION:Ateneu Arenyenc - Anselm Clavé, 22
ORGANIZER:Ateneu Arenyenc
COMMENT:Preu: Gratuït
DESCRIPTION:La Secció de Billar de l'Ateneu contra el Club de Billar de Canet de Mar
URL:https://arenysdemar.cat/document.php?id=33610
END:VEVENT
END:VCALENDAR