BEGIN:VCALENDAR
VERSION:2.0
PRODID:-//Plone.org//NONSGML plone.app.event//EN
X-WR-TIMEZONE:Europe/Madrid
BEGIN:VEVENT
SUMMARY:Teatre familiar: El porc ferotge
DTSTART;TZID=Europe/Madrid;VALUE=DATE-TIME:20171001T180000
DTEND;TZID=Europe/Madrid;VALUE=DATE-TIME:20171001T190000
DTSTAMP;VALUE=DATE-TIME:20260420T120401Z
UID:07a156b16ac0ff5aad8f65ddaab994f0
CREATED;VALUE=DATE-TIME:20171001T000000Z
CATEGORIES:Infantils
LOCATION:Teatre Principal - C. Església, 45-47
ORGANIZER:S.C.L'Esperança i Regidoria de Cultura
COMMENT:Preu: 5 anticipada, 6 a taquilla i 4 socis
DESCRIPTION:a càrrec de la Cia. Produccions Essencials
URL:https://arenysdemar.cat/document.php?id=33621
END:VEVENT
END:VCALENDAR