BEGIN:VCALENDAR
VERSION:2.0
PRODID:-//Plone.org//NONSGML plone.app.event//EN
X-WR-TIMEZONE:Europe/Madrid
BEGIN:VEVENT
SUMMARY:Interpretació del paisatge arenyenc al llarg del temps
DTSTART;TZID=Europe/Madrid;VALUE=DATE-TIME:20171008T100000
DTEND;TZID=Europe/Madrid;VALUE=DATE-TIME:20171008T110000
DTSTAMP;VALUE=DATE-TIME:20260420T221200Z
UID:80b5d1a23b440922f82f2a5267524531
CREATED;VALUE=DATE-TIME:20171008T000000Z
CATEGORIES:Mostra
LOCATION:Escales del Port d'Arenys de Mar
ORGANIZER:Ajuntament d'Arenys de Mar - Museu d'Arenys de Mar
COMMENT:Preu: Gratuït
Durada: Fins a les 12h aproximadament
DESCRIPTION:Jornades Europees del Patrimoni
URL:https://arenysdemar.cat/document.php?id=33634
END:VEVENT
END:VCALENDAR