BEGIN:VCALENDAR
VERSION:2.0
PRODID:-//Plone.org//NONSGML plone.app.event//EN
X-WR-TIMEZONE:Europe/Madrid
BEGIN:VEVENT
SUMMARY:Ballet: El trencanous de Txaikovski
DTSTART;TZID=Europe/Madrid;VALUE=DATE-TIME:20171205T201500
DTEND;TZID=Europe/Madrid;VALUE=DATE-TIME:20171205T211500
DTSTAMP;VALUE=DATE-TIME:20260421T011112Z
UID:8e2faa29ca06fa1b08bdf673993134bc
CREATED;VALUE=DATE-TIME:20171205T000000Z
CATEGORIES:Cinema
LOCATION:Teatre Principal - C. Església, 45-47
COMMENT:Preu: 15 anticipada, 17 a taquilla i 13 socis
DESCRIPTION:Retransmissió en directe desde l'Òpera House de Londres
URL:https://arenysdemar.cat/document.php?id=33636
END:VEVENT
END:VCALENDAR