BEGIN:VCALENDAR
VERSION:2.0
PRODID:-//Plone.org//NONSGML plone.app.event//EN
X-WR-TIMEZONE:Europe/Madrid
BEGIN:VEVENT
SUMMARY:El cementiri a posta de sol. Descobrim els misteris que s'hi amaguen.
DTSTART;TZID=Europe/Madrid;VALUE=DATE-TIME:20170908T201500
DTEND;TZID=Europe/Madrid;VALUE=DATE-TIME:20170908T211500
DTSTAMP;VALUE=DATE-TIME:20260420T170649Z
UID:677cb5122bd278d2929e61ef2d68aa13
CREATED;VALUE=DATE-TIME:20170908T000000Z
CATEGORIES:Teatre
LOCATION:Cementiri municipal
ORGANIZER:Centre Espriu - Regidoria de Cultura
COMMENT:Preu: Gratuït
Durada: 1 hora. També el 15 de setembre
DESCRIPTION:Visita teatralitzada, amb Roger Pou i els tastets musicals de l'Oriol i la Mar de Antonio Sancho.
URL:https://arenysdemar.cat/document.php?id=33712
END:VEVENT
END:VCALENDAR