BEGIN:VCALENDAR
VERSION:2.0
PRODID:-//Plone.org//NONSGML plone.app.event//EN
X-WR-TIMEZONE:Europe/Madrid
BEGIN:VEVENT
SUMMARY:Arenys de Swing: Ballada mensual de swing
DTSTART;TZID=Europe/Madrid;VALUE=DATE-TIME:20170910T180000
DTEND;TZID=Europe/Madrid;VALUE=DATE-TIME:20170910T190000
DTSTAMP;VALUE=DATE-TIME:20260423T164651Z
UID:6b229b744004ae42324c87d8f48025d7
CREATED;VALUE=DATE-TIME:20170910T000000Z
CATEGORIES:Dansa,Festa
LOCATION:Part alta de la Riera
ORGANIZER:Chickens Hoppers d'Arenys de Mar
URL:https://arenysdemar.cat/document.php?id=33722
END:VEVENT
END:VCALENDAR