BEGIN:VCALENDAR
VERSION:2.0
PRODID:-//Plone.org//NONSGML plone.app.event//EN
X-WR-TIMEZONE:Europe/Madrid
BEGIN:VEVENT
SUMMARY:La casa del darrere
DTSTART;TZID=Europe/Madrid;VALUE=DATE-TIME:20170924T190000
DTEND;TZID=Europe/Madrid;VALUE=DATE-TIME:20170924T200000
DTSTAMP;VALUE=DATE-TIME:20260424T024123Z
UID:cd1a87f259ea435998dd602aebfb1c43
CREATED;VALUE=DATE-TIME:20170924T000000Z
CATEGORIES:Música,Teatre
LOCATION:Teatre Principal - C. Església, 45-47
ORGANIZER:S.C.L'Esperança i la Regidoria de Cultura
COMMENT:Preu: 10 anticipada, 12 taquilla i 8 socis
DESCRIPTION:Qui no coneix la història d'Anna Frank i el seu amagatall a la casa del darrere amb la seva família, els Van Daan i en Dussel?
URL:https://arenysdemar.cat/document.php?id=33731
END:VEVENT
END:VCALENDAR