BEGIN:VCALENDAR
VERSION:2.0
PRODID:-//Plone.org//NONSGML plone.app.event//EN
X-WR-TIMEZONE:Europe/Madrid
BEGIN:VEVENT
SUMMARY:Dinar de la família concepcionista
DTSTART;TZID=Europe/Madrid;VALUE=DATE-TIME:20171007T130000
DTEND;TZID=Europe/Madrid;VALUE=DATE-TIME:20171007T140000
DTSTAMP;VALUE=DATE-TIME:20260420T170412Z
UID:c1790262ed5473e901427bf07c237da6
CREATED;VALUE=DATE-TIME:20171007T000000Z
CATEGORIES:Festa
LOCATION:Col·legi La Presentació
ORGANIZER:Col·legi La Presentació
COMMENT:Preu: 14 euros
Durada: De 13 h. a 17h. Visita a les instal·lacions i dinar.
DESCRIPTION:25 anys de presència concepcionista a Arenys
URL:https://arenysdemar.cat/document.php?id=33779
END:VEVENT
END:VCALENDAR