BEGIN:VCALENDAR
VERSION:2.0
PRODID:-//Plone.org//NONSGML plone.app.event//EN
X-WR-TIMEZONE:Europe/Madrid
BEGIN:VEVENT
SUMMARY:Conferència d'Història: La imatge del poder al llarg dels temps històrics
DTSTART;TZID=Europe/Madrid;VALUE=DATE-TIME:20171024T180000
DTEND;TZID=Europe/Madrid;VALUE=DATE-TIME:20171024T190000
DTSTAMP;VALUE=DATE-TIME:20260424T061041Z
UID:6da8fc3587f594c9bf34074f3b187362
CREATED;VALUE=DATE-TIME:20171024T000000Z
CATEGORIES:Conferència
LOCATION:Sala Josep Maria Arnau del C.C.Calisay - Riera del Pare Fita, 31
ORGANIZER:Aula d'Extensió Universitària
DESCRIPTION:a càrrec de Salvador Claramunt de la Universitat de Barcelona
URL:https://arenysdemar.cat/document.php?id=33814
END:VEVENT
END:VCALENDAR