BEGIN:VCALENDAR
VERSION:2.0
PRODID:-//Plone.org//NONSGML plone.app.event//EN
X-WR-TIMEZONE:Europe/Madrid
BEGIN:VEVENT
SUMMARY:Curs: Coneixement de la Societat Catalana i el seu marc jurídic
DTSTART;TZID=Europe/Madrid;VALUE=DATE-TIME:20170919T180000
DTEND;TZID=Europe/Madrid;VALUE=DATE-TIME:20170919T190000
DTSTAMP;VALUE=DATE-TIME:20260420T081608Z
UID:1f5934a4fb2ae96879b2bcc11cc313b5
CREATED;VALUE=DATE-TIME:20170919T000000Z
CATEGORIES:Cursos
LOCATION:Sala Noble del C.C.Calisay - Riera Pare Fita, 31
ORGANIZER:Servei Itinerant d'Acollida d'Arenys de Mar
COMMENT:Preu: Gratuït
Durada: Fins a l´11 d´octubre, de 18h a 20h
DESCRIPTION:Mòdul de formació del Servei Itinerant d'Acollida d'Arenys de Mar
URL:https://arenysdemar.cat/document.php?id=33837
END:VEVENT
END:VCALENDAR