BEGIN:VCALENDAR
VERSION:2.0
PRODID:-//Plone.org//NONSGML plone.app.event//EN
X-WR-TIMEZONE:Europe/Madrid
BEGIN:VEVENT
SUMMARY:Cinema
DTSTART;TZID=Europe/Madrid;VALUE=DATE-TIME:20171020T180000
DTEND;TZID=Europe/Madrid;VALUE=DATE-TIME:20171020T190000
DTSTAMP;VALUE=DATE-TIME:20260420T120549Z
UID:9f02d9bf70a1faebd1c1326247e4eea4
CREATED;VALUE=DATE-TIME:20171020T000000Z
CATEGORIES:Cinema
LOCATION:Teatre Principal - C. Església, 45-47
ORGANIZER:Regidoria de Gent Gran
COMMENT:Preu: Gratuït
DESCRIPTION:Octubre: Mes de la Gent Gran
URL:https://arenysdemar.cat/document.php?id=33856
END:VEVENT
END:VCALENDAR