BEGIN:VCALENDAR
VERSION:2.0
PRODID:-//Plone.org//NONSGML plone.app.event//EN
X-WR-TIMEZONE:Europe/Madrid
BEGIN:VEVENT
SUMMARY:Biodansa
DTSTART;TZID=Europe/Madrid;VALUE=DATE-TIME:20171103T190000
DTEND;TZID=Europe/Madrid;VALUE=DATE-TIME:20171103T200000
DTSTAMP;VALUE=DATE-TIME:20260424T010630Z
UID:4cffd837f9b0200d58810e1d7c9470c5
CREATED;VALUE=DATE-TIME:20171103T000000Z
CATEGORIES:Dansa
LOCATION:Casal de Joventut Seràfica - Josep Baralt, s/n
ORGANIZER:Banc del Temps Arenys i Seràfics
COMMENT:Durada: També els divendres 10, 17 i 24 de novembre de 19 a 21h
DESCRIPTION:a càrrec de Teresa Escobedo, facilitadora de Biodansa
URL:https://arenysdemar.cat/document.php?id=33909
END:VEVENT
END:VCALENDAR