BEGIN:VCALENDAR
VERSION:2.0
PRODID:-//Plone.org//NONSGML plone.app.event//EN
X-WR-TIMEZONE:Europe/Madrid
BEGIN:VEVENT
SUMMARY:Conferència de sociologia: Els Drets Humans: la garantia de la dignitat humana
DTSTART;TZID=Europe/Madrid;VALUE=DATE-TIME:20171114T180000
DTEND;TZID=Europe/Madrid;VALUE=DATE-TIME:20171114T190000
DTSTAMP;VALUE=DATE-TIME:20260424T024717Z
UID:068f06a3b015eb3f660b09617ca7ee7d
CREATED;VALUE=DATE-TIME:20171114T000000Z
CATEGORIES:Conferència
LOCATION:Sala Josep Maria Arnau del C.C.Calisay - Riera del Pare Fita, 31
ORGANIZER:Aula d'Extensió Universitària
DESCRIPTION:a càrrec de Xavier Garí de Barberà de la Universitat Ramon Llull
URL:https://arenysdemar.cat/document.php?id=33928
END:VEVENT
END:VCALENDAR