BEGIN:VCALENDAR
VERSION:2.0
PRODID:-//Plone.org//NONSGML plone.app.event//EN
X-WR-TIMEZONE:Europe/Madrid
BEGIN:VEVENT
SUMMARY:Sortida al teatre a Barcelona a veure el musical Cabaret
DTSTART;TZID=Europe/Madrid;VALUE=DATE-TIME:20171130T190000
DTEND;TZID=Europe/Madrid;VALUE=DATE-TIME:20171130T200000
DTSTAMP;VALUE=DATE-TIME:20260421T175832Z
UID:990dc7e154a9ea7395594ebaea774c67
CREATED;VALUE=DATE-TIME:20171130T000000Z
CATEGORIES:Teatre
LOCATION:sortida a Barcelona
ORGANIZER:Esplai de la Gent Gran
COMMENT:Preu: 50 euros autocar i entrada. Per a més informació i inscripcions a l'Esplai de la Gent Gran
DESCRIPTION:al Teatre Victòria 
URL:https://arenysdemar.cat/document.php?id=33934
END:VEVENT
END:VCALENDAR