BEGIN:VCALENDAR
VERSION:2.0
PRODID:-//Plone.org//NONSGML plone.app.event//EN
X-WR-TIMEZONE:Europe/Madrid
BEGIN:VEVENT
SUMMARY:Actes entorn al Programa del 25 de Novembre. Presentació del Protocol de Violència Masclista d'Arenys de Mar
DTSTART;TZID=Europe/Madrid;VALUE=DATE-TIME:20171115T190000
DTEND;TZID=Europe/Madrid;VALUE=DATE-TIME:20171115T200000
DTSTAMP;VALUE=DATE-TIME:20260422T071843Z
UID:e7fa1b0fe5ef6ab46b0e4dc547d2a3ca
CREATED;VALUE=DATE-TIME:20171115T000000Z
CATEGORIES:Música,Conferència
LOCATION:Sala d'Actes de la Biblioteca - C. Bonaire, 2
ORGANIZER:Regidoria de Drets Civils
DESCRIPTION:Amb l'actuació musical de Duna Vilanova i Joan Torrentó
URL:https://arenysdemar.cat/document.php?id=33979
END:VEVENT
END:VCALENDAR