BEGIN:VCALENDAR
VERSION:2.0
PRODID:-//Plone.org//NONSGML plone.app.event//EN
X-WR-TIMEZONE:Europe/Madrid
BEGIN:VEVENT
SUMMARY:Pressupost Participatiu 2018
DTSTART;TZID=Europe/Madrid;VALUE=DATE-TIME:20171030T090000
DTEND;TZID=Europe/Madrid;VALUE=DATE-TIME:20171030T100000
DTSTAMP;VALUE=DATE-TIME:20260420T203156Z
UID:708c722304b6c764e2b0e7a6f1fd104b
CREATED;VALUE=DATE-TIME:20171030T000000Z
CATEGORIES:Mostra
ORGANIZER:Regidoria de Participació
COMMENT:Durada: Fins al 19 de novembre
DESCRIPTION:Fase de votació
URL:https://arenysdemar.cat/document.php?id=33982
END:VEVENT
END:VCALENDAR