BEGIN:VCALENDAR
VERSION:2.0
PRODID:-//Plone.org//NONSGML plone.app.event//EN
X-WR-TIMEZONE:Europe/Madrid
BEGIN:VEVENT
SUMMARY:Xerrada i taller: Llenguatge no-verbal. El que es diu és veritat, fins i tot quan no es parla
DTSTART;TZID=Europe/Madrid;VALUE=DATE-TIME:20171111T170000
DTEND;TZID=Europe/Madrid;VALUE=DATE-TIME:20171111T180000
DTSTAMP;VALUE=DATE-TIME:20260424T063337Z
UID:788227f75cfcf92b60045102f63aaa42
CREATED;VALUE=DATE-TIME:20171111T000000Z
CATEGORIES:Cursos
LOCATION:Sala Gran d'entitats del C.C. Calisay - Riera Pare Fita, 31
ORGANIZER:Banc del Temps Arenys
COMMENT:Preu: Xerrada de franc. Taller 40 euros (anticipat 35 euros)
Durada: De 17.00 h a 21.00 h
DESCRIPTION:a càrrec del coach i expert en medicina xinesa Charly Llopis
URL:https://arenysdemar.cat/document.php?id=33983
END:VEVENT
END:VCALENDAR