BEGIN:VCALENDAR
VERSION:2.0
PRODID:-//Plone.org//NONSGML plone.app.event//EN
X-WR-TIMEZONE:Europe/Madrid
BEGIN:VEVENT
SUMMARY:Xerrada - col·loqui : Alimentació saludable
DTSTART;TZID=Europe/Madrid;VALUE=DATE-TIME:20171215T110000
DTEND;TZID=Europe/Madrid;VALUE=DATE-TIME:20171215T120000
DTSTAMP;VALUE=DATE-TIME:20260420T170543Z
UID:06fb01610b655f84a8a9b16064255d2f
CREATED;VALUE=DATE-TIME:20171215T000000Z
CATEGORIES:Conferència
LOCATION:Sala Noble del C.C.Calisay - Riera Pare Fita, 31
ORGANIZER:Regidoria de Gent Gran amb la col·laboració de la Diputació de Barcelona
URL:https://arenysdemar.cat/document.php?id=33993
END:VEVENT
END:VCALENDAR