BEGIN:VCALENDAR
VERSION:2.0
PRODID:-//Plone.org//NONSGML plone.app.event//EN
X-WR-TIMEZONE:Europe/Madrid
BEGIN:VEVENT
SUMMARY:Ball de tarda
DTSTART;TZID=Europe/Madrid;VALUE=DATE-TIME:20171210T183000
DTEND;TZID=Europe/Madrid;VALUE=DATE-TIME:20171210T193000
DTSTAMP;VALUE=DATE-TIME:20260422T132207Z
UID:ae624ddb0d2ea519ab574f5a38fcbe9f
CREATED;VALUE=DATE-TIME:20171210T000000Z
CATEGORIES:Música
LOCATION:Ateneu Arenyenc - Anselm Clavé, 22
ORGANIZER:Ateneu Arenyenc
COMMENT:Preu: Preu únic: 3 euros
DESCRIPTION:amb l'actuació de DM Ateneu
URL:https://arenysdemar.cat/document.php?id=34040
END:VEVENT
END:VCALENDAR