BEGIN:VCALENDAR
VERSION:2.0
PRODID:-//Plone.org//NONSGML plone.app.event//EN
X-WR-TIMEZONE:Europe/Madrid
BEGIN:VEVENT
SUMMARY:Ser o no ser de mar. Amb Eliseu Carbonell, Miquel Doñate i Pablo Romero.
DTSTART;TZID=Europe/Madrid;VALUE=DATE-TIME:20171124T181500
DTEND;TZID=Europe/Madrid;VALUE=DATE-TIME:20171124T191500
DTSTAMP;VALUE=DATE-TIME:20260421T124818Z
UID:c4af35142e5134a1028718eb6982eaf8
CREATED;VALUE=DATE-TIME:20171124T000000Z
CATEGORIES:Exposició,Conferència
LOCATION:Sala d'Actes de l'Ajuntament - Riera Bisbe Pol, 8
ORGANIZER:El Moll i l'Ajuntament d'Arenys de Mar
DESCRIPTION:En el marc de l'exposició "EL MOLL. Port d'Arenys 1917-2017".
URL:https://arenysdemar.cat/document.php?id=34089
END:VEVENT
END:VCALENDAR