BEGIN:VCALENDAR
VERSION:2.0
PRODID:-//Plone.org//NONSGML plone.app.event//EN
X-WR-TIMEZONE:Europe/Madrid
BEGIN:VEVENT
SUMMARY:Els bastiments tradicionals de rem i vela, amb Vicente Garcia-Delgado
DTSTART;TZID=Europe/Madrid;VALUE=DATE-TIME:20171125T180000
DTEND;TZID=Europe/Madrid;VALUE=DATE-TIME:20171125T190000
DTSTAMP;VALUE=DATE-TIME:20260422T045922Z
UID:2194c2360adb117623bdeccc897c2964
CREATED;VALUE=DATE-TIME:20171125T000000Z
CATEGORIES:Conferència
LOCATION:Sala Exposicions del C.C.Calisay - Riera del Pare Fita, 31
ORGANIZER:El Moll i l'Ajuntament d'Arenys de Mar
DESCRIPTION:En el marc de l'exposició "EL MOLL. Port d'Arenys 1917-2017".
URL:https://arenysdemar.cat/document.php?id=34090
END:VEVENT
END:VCALENDAR