BEGIN:VCALENDAR
VERSION:2.0
PRODID:-//Plone.org//NONSGML plone.app.event//EN
X-WR-TIMEZONE:Europe/Madrid
BEGIN:VEVENT
SUMMARY:Xerrada divulgativa: Qué m'impedeix aconseguir-ho?
DTSTART;TZID=Europe/Madrid;VALUE=DATE-TIME:20171201T190000
DTEND;TZID=Europe/Madrid;VALUE=DATE-TIME:20171201T200000
DTSTAMP;VALUE=DATE-TIME:20260420T082951Z
UID:87671e404be0ad6c37c3fd246fad188b
CREATED;VALUE=DATE-TIME:20171201T000000Z
CATEGORIES:Conferència
LOCATION:Ateneu Arenyenc - Anselm Clavé, 22
ORGANIZER:Ateneu Arenyenc
COMMENT:Preu: Gratuït
DESCRIPTION:A càrrec de l'escriptora i coach Eva Lleonart
URL:https://arenysdemar.cat/document.php?id=34105
END:VEVENT
END:VCALENDAR