BEGIN:VCALENDAR
VERSION:2.0
PRODID:-//Plone.org//NONSGML plone.app.event//EN
X-WR-TIMEZONE:Europe/Madrid
BEGIN:VEVENT
SUMMARY:Gags de Nadal: Nadal? Bah... ximpleries!
DTSTART;TZID=Europe/Madrid;VALUE=DATE-TIME:20171217T170000
DTEND;TZID=Europe/Madrid;VALUE=DATE-TIME:20171217T180000
DTSTAMP;VALUE=DATE-TIME:20260421T191620Z
UID:90ac5c0d2ea101860119c25839985ad7
CREATED;VALUE=DATE-TIME:20171217T000000Z
CATEGORIES:Infantils,Teatre
LOCATION:Teatre del Seràfics
ORGANIZER:Taller de Teatre de l'Espai Jove del Calisay i HomoTteatris
COMMENT:Preu: Gratuït
Durada: 1er passi 17h i segon passi 19h
DESCRIPTION:a càrrec dels grups del Taller de Teatre de l'Espai Jove
URL:https://arenysdemar.cat/document.php?id=34111
END:VEVENT
END:VCALENDAR