BEGIN:VCALENDAR
VERSION:2.0
PRODID:-//Plone.org//NONSGML plone.app.event//EN
X-WR-TIMEZONE:Europe/Madrid
BEGIN:VEVENT
SUMMARY:Ball del dissabte
DTSTART;TZID=Europe/Madrid;VALUE=DATE-TIME:20171223T223000
DTEND;TZID=Europe/Madrid;VALUE=DATE-TIME:20171223T233000
DTSTAMP;VALUE=DATE-TIME:20260422T015130Z
UID:e9719e8eb851b80c70e5934a6a894e43
CREATED;VALUE=DATE-TIME:20171223T000000Z
CATEGORIES:Música
LOCATION:Ateneu Arenyenc - Anselm Clavé, 22
ORGANIZER:Ateneu Arenyenc
COMMENT:Preu: Soci 4 euros i no soci 5 euros
DESCRIPTION:amb l'actuació de DM Ateneu
URL:https://arenysdemar.cat/document.php?id=34120
END:VEVENT
END:VCALENDAR