BEGIN:VCALENDAR
VERSION:2.0
PRODID:-//Plone.org//NONSGML plone.app.event//EN
X-WR-TIMEZONE:Europe/Madrid
BEGIN:VEVENT
SUMMARY:Reunions informatives per les entitats esportives arenyenques
DTSTART;TZID=Europe/Madrid;VALUE=DATE-TIME:20180305T193000
DTEND;TZID=Europe/Madrid;VALUE=DATE-TIME:20180305T203000
DTSTAMP;VALUE=DATE-TIME:20260420T152957Z
UID:3cbb9a58ab7def5070a4d11778fcdbef
CREATED;VALUE=DATE-TIME:20180305T000000Z
CATEGORIES:Esports
LOCATION:Sala Noble del C.C.Calisay - Riera Pare Fita, 31
ORGANIZER:Regidoria d'esports
DESCRIPTION:Impostos: IVA i Impost de Societats
URL:https://arenysdemar.cat/document.php?id=34168
END:VEVENT
END:VCALENDAR