BEGIN:VCALENDAR
VERSION:2.0
PRODID:-//Plone.org//NONSGML plone.app.event//EN
X-WR-TIMEZONE:Europe/Madrid
BEGIN:VEVENT
SUMMARY:14a lliga social - 3r. lliurament
DTSTART;TZID=Europe/Madrid;VALUE=DATE-TIME:20180308T210000
DTEND;TZID=Europe/Madrid;VALUE=DATE-TIME:20180308T220000
DTSTAMP;VALUE=DATE-TIME:20260423T231916Z
UID:c00b87e9eedc87259202849be88f7e1e
CREATED;VALUE=DATE-TIME:20180308T000000Z
CATEGORIES:Mostra
LOCATION:Local Social de l'AFA (Seràfics)
ORGANIZER:Agrupació Fotogràfica d'Arenys de Mar
DESCRIPTION:Tema prohibit la foto diürna i d'estudi
URL:https://arenysdemar.cat/document.php?id=34209
END:VEVENT
END:VCALENDAR