BEGIN:VCALENDAR
VERSION:2.0
PRODID:-//Plone.org//NONSGML plone.app.event//EN
X-WR-TIMEZONE:Europe/Madrid
BEGIN:VEVENT
SUMMARY:Conferència de Física: Fonaments físics, aplicacions i fronteres del sistema GPS
DTSTART;TZID=Europe/Madrid;VALUE=DATE-TIME:20180116T180000
DTEND;TZID=Europe/Madrid;VALUE=DATE-TIME:20180116T190000
DTSTAMP;VALUE=DATE-TIME:20260424T042549Z
UID:7b7b47ce48fa624cb55910cdf0f087e4
CREATED;VALUE=DATE-TIME:20180116T000000Z
CATEGORIES:Conferència
LOCATION:Sala Josep Maria Arnau del C.C.Calisay - Riera del Pare Fita, 31
ORGANIZER:Aula d'Extensió Universitària
DESCRIPTION:a càrrec de David Jou, de la Universitat Autònoma de Barcelona
URL:https://arenysdemar.cat/document.php?id=34229
END:VEVENT
END:VCALENDAR