BEGIN:VCALENDAR
VERSION:2.0
PRODID:-//Plone.org//NONSGML plone.app.event//EN
X-WR-TIMEZONE:Europe/Madrid
BEGIN:VEVENT
SUMMARY:Fira de Brocanters
DTSTART;TZID=Europe/Madrid;VALUE=DATE-TIME:20180114T100000
DTEND;TZID=Europe/Madrid;VALUE=DATE-TIME:20180114T110000
DTSTAMP;VALUE=DATE-TIME:20260423T181324Z
UID:0129d8511fcd6af7ffb9744960ac7f68
CREATED;VALUE=DATE-TIME:20180114T000000Z
CATEGORIES:Mostra
LOCATION:Riera davant placeta Calisay
ORGANIZER:Associació Col·leccionisme Nou i Vell (Crisàlide)
COMMENT:Preu: Gratuït
Durada: fins a les 15h
URL:https://arenysdemar.cat/document.php?id=34267
END:VEVENT
END:VCALENDAR