BEGIN:VCALENDAR
VERSION:2.0
PRODID:-//Plone.org//NONSGML plone.app.event//EN
X-WR-TIMEZONE:Europe/Madrid
BEGIN:VEVENT
SUMMARY:Fira de Brocanters
DTSTART;TZID=Europe/Madrid;VALUE=DATE-TIME:20180909T100000
DTEND;TZID=Europe/Madrid;VALUE=DATE-TIME:20180909T110000
DTSTAMP;VALUE=DATE-TIME:20260424T023033Z
UID:6b97688c183aeba5e4486176e080728c
CREATED;VALUE=DATE-TIME:20180909T000000Z
CATEGORIES:Mostra
LOCATION:Reiera zona nova coberta
ORGANIZER:Associació Col·leccionisme Nou i Vell (Crisàlide)
COMMENT:Durada: Fins a les 14:00h
URL:https://arenysdemar.cat/document.php?id=34309
END:VEVENT
END:VCALENDAR