BEGIN:VCALENDAR
VERSION:2.0
PRODID:-//Plone.org//NONSGML plone.app.event//EN
X-WR-TIMEZONE:Europe/Madrid
BEGIN:VEVENT
SUMMARY:Fira d'Artesania
DTSTART;TZID=Europe/Madrid;VALUE=DATE-TIME:20180603T100000
DTEND;TZID=Europe/Madrid;VALUE=DATE-TIME:20180603T110000
DTSTAMP;VALUE=DATE-TIME:20260423T222350Z
UID:ac527f53574f5d4631ac4b3f9e7f5660
CREATED;VALUE=DATE-TIME:20180603T000000Z
CATEGORIES:Mostra
LOCATION:Part baixa de la Riera
ORGANIZER:Associació Col·leccionisme Nou i Vell (Crisàlide)
COMMENT:Preu: Gratuït
Durada: fins a les 15h
URL:https://arenysdemar.cat/document.php?id=34322
END:VEVENT
END:VCALENDAR