BEGIN:VCALENDAR
VERSION:2.0
PRODID:-//Plone.org//NONSGML plone.app.event//EN
X-WR-TIMEZONE:Europe/Madrid
BEGIN:VEVENT
SUMMARY:Concert de Banda
DTSTART;TZID=Europe/Madrid;VALUE=DATE-TIME:20180213T193000
DTEND;TZID=Europe/Madrid;VALUE=DATE-TIME:20180213T203000
DTSTAMP;VALUE=DATE-TIME:20260419T203828Z
UID:26bbae73c05bd128a4147e820fe5fa15
CREATED;VALUE=DATE-TIME:20180213T000000Z
CATEGORIES:Festa
LOCATION:Pati del C.C.Calisay - Riera del Pare Fita, 31
ORGANIZER:Escola Municipal de Música Carles G. Vidiella i Regidoria de Festes
DESCRIPTION:a càrrec de la Banda de l'Escola Municipal de Música Carles G. Vidiella
URL:https://arenysdemar.cat/document.php?id=34353
END:VEVENT
END:VCALENDAR