BEGIN:VCALENDAR
VERSION:2.0
PRODID:-//Plone.org//NONSGML plone.app.event//EN
X-WR-TIMEZONE:Europe/Madrid
BEGIN:VEVENT
SUMMARY:Inici de la preparació de l'escudella de recapte
DTSTART;TZID=Europe/Madrid;VALUE=DATE-TIME:20180213T100000
DTEND;TZID=Europe/Madrid;VALUE=DATE-TIME:20180213T110000
DTSTAMP;VALUE=DATE-TIME:20260420T183831Z
UID:e91c36aeb71b9d1b8b11ec275d9c2ac0
CREATED;VALUE=DATE-TIME:20180213T000000Z
CATEGORIES:Festa
LOCATION:Riera, davant del C.C. Calisay
ORGANIZER:Agrupament Escolta i Guia Flos i Calcat i Regidoria de Festes
DESCRIPTION:Participa i porta pasta, pollastre, verdura, pilotes....
URL:https://arenysdemar.cat/document.php?id=34355
END:VEVENT
END:VCALENDAR