BEGIN:VCALENDAR
VERSION:2.0
PRODID:-//Plone.org//NONSGML plone.app.event//EN
X-WR-TIMEZONE:Europe/Madrid
BEGIN:VEVENT
SUMMARY:Converses a la carta en francès. Français à la carte
DTSTART;TZID=Europe/Madrid;VALUE=DATE-TIME:20180221T190000
DTEND;TZID=Europe/Madrid;VALUE=DATE-TIME:20180221T200000
DTSTAMP;VALUE=DATE-TIME:20260423T163557Z
UID:df0eb65452d32f598b31d51e7e5e690d
CREATED;VALUE=DATE-TIME:20180221T000000Z
CATEGORIES:Cursos,Literatura
LOCATION:Sala d'Actes de la Biblioteca - C. Bonaire, 3
ORGANIZER:Biblioteca - Regidoria de Cultura
DESCRIPTION:a càrrec de Dominique Jiménez
URL:https://arenysdemar.cat/document.php?id=34372
END:VEVENT
END:VCALENDAR