BEGIN:VCALENDAR
VERSION:2.0
PRODID:-//Plone.org//NONSGML plone.app.event//EN
X-WR-TIMEZONE:Europe/Madrid
BEGIN:VEVENT
SUMMARY:Òpera: Tosca de Giacomo Puccini
DTSTART;TZID=Europe/Madrid;VALUE=DATE-TIME:20180207T201500
DTEND;TZID=Europe/Madrid;VALUE=DATE-TIME:20180207T211500
DTSTAMP;VALUE=DATE-TIME:20260420T184948Z
UID:41a4264fee11731215c1c9f5c717c28f
CREATED;VALUE=DATE-TIME:20180207T000000Z
CATEGORIES:Cinema,Música
LOCATION:Teatre Principal - C. Església, 45-47
ORGANIZER:Regidoria de Cultura i S.C.L'Esperança
COMMENT:Preu: 15 euros anticipada, 17 euros a taquilla i 13 euros socis
DESCRIPTION:Retransmissió en directe des de l'Opera House de Londres
URL:https://arenysdemar.cat/document.php?id=34377
END:VEVENT
END:VCALENDAR