BEGIN:VCALENDAR
VERSION:2.0
PRODID:-//Plone.org//NONSGML plone.app.event//EN
X-WR-TIMEZONE:Europe/Madrid
BEGIN:VEVENT
SUMMARY:Gin & Tapes
DTSTART;TZID=Europe/Madrid;VALUE=DATE-TIME:20180921T200000
DTEND;TZID=Europe/Madrid;VALUE=DATE-TIME:20180921T210000
DTSTAMP;VALUE=DATE-TIME:20260420T170948Z
UID:b5be5ee9b0e1ea6660a5ffc38ab9a286
CREATED;VALUE=DATE-TIME:20180921T000000Z
CATEGORIES:Mostra
LOCATION:Mercat municipal - Riera Bisbe Pol, 82
ORGANIZER:Regidoria de Promoció Econòmica
COMMENT:Durada: Fins a les 12 de la nit
URL:https://arenysdemar.cat/document.php?id=34382
END:VEVENT
END:VCALENDAR