BEGIN:VCALENDAR
VERSION:2.0
PRODID:-//Plone.org//NONSGML plone.app.event//EN
X-WR-TIMEZONE:Europe/Madrid
BEGIN:VEVENT
SUMMARY:Conferència de Medicina: La medicina a la pintura
DTSTART;TZID=Europe/Madrid;VALUE=DATE-TIME:20180206T180000
DTEND;TZID=Europe/Madrid;VALUE=DATE-TIME:20180206T190000
DTSTAMP;VALUE=DATE-TIME:20260420T201813Z
UID:480876b400d88090e5b0ac50dc3dac4c
CREATED;VALUE=DATE-TIME:20180206T000000Z
CATEGORIES:Conferència
LOCATION:Sala Josep Maria Arnau del C.C.Calisay - Riera del Pare Fita, 31
ORGANIZER:Aula d'Extensió Universitària
DESCRIPTION:a càrrec de Carles Paytubí, metge del Parc Sanitari de Sant Joan de Déu.
URL:https://arenysdemar.cat/document.php?id=34385
END:VEVENT
END:VCALENDAR