BEGIN:VCALENDAR
VERSION:2.0
PRODID:-//Plone.org//NONSGML plone.app.event//EN
X-WR-TIMEZONE:Europe/Madrid
BEGIN:VEVENT
SUMMARY:Hora del conte
DTSTART;TZID=Europe/Madrid;VALUE=DATE-TIME:20180215T180000
DTEND;TZID=Europe/Madrid;VALUE=DATE-TIME:20180215T190000
DTSTAMP;VALUE=DATE-TIME:20260423T233141Z
UID:df20f7116145c395c45656d4cac2460b
CREATED;VALUE=DATE-TIME:20180215T000000Z
CATEGORIES:Infantils
LOCATION:Sala d'Actes de la Biblioteca - C. Bonaire, 3
ORGANIZER:Biblioteca - Regidoria de Cultura
URL:https://arenysdemar.cat/document.php?id=34396
END:VEVENT
END:VCALENDAR