BEGIN:VCALENDAR
VERSION:2.0
PRODID:-//Plone.org//NONSGML plone.app.event//EN
X-WR-TIMEZONE:Europe/Madrid
BEGIN:VEVENT
SUMMARY:Conferència: Recordant a Joan Barrera (1872-1961)
DTSTART;TZID=Europe/Madrid;VALUE=DATE-TIME:20180216T190000
DTEND;TZID=Europe/Madrid;VALUE=DATE-TIME:20180216T200000
DTSTAMP;VALUE=DATE-TIME:20260423T231000Z
UID:3ccc804a5f4a2080b632807cc2855e0d
CREATED;VALUE=DATE-TIME:20180216T000000Z
CATEGORIES:Conferència
LOCATION:Ateneu Arenyenc - Anselm Clavé, 22
ORGANIZER:Ateneu Arenyenc
COMMENT:Preu: Gratuït
DESCRIPTION:a càrrec de Montse Viader
URL:https://arenysdemar.cat/document.php?id=34399
END:VEVENT
END:VCALENDAR