BEGIN:VCALENDAR
VERSION:2.0
PRODID:-//Plone.org//NONSGML plone.app.event//EN
X-WR-TIMEZONE:Europe/Madrid
BEGIN:VEVENT
SUMMARY:Fira de Nadal
DTSTART;TZID=Europe/Madrid;VALUE=DATE-TIME:20181215T100000
DTEND;TZID=Europe/Madrid;VALUE=DATE-TIME:20181215T110000
DTSTAMP;VALUE=DATE-TIME:20260421T184025Z
UID:33c871fed3bf81296b8f5ff693676da0
CREATED;VALUE=DATE-TIME:20181215T000000Z
LOCATION:Plaça de l'Església - Plaça de l'Església
ORGANIZER:Associació de la Fira del Solstici
COMMENT:Durada: També el 16 de desembre 2018 de 10 a 21h
URL:https://arenysdemar.cat/document.php?id=34411
END:VEVENT
END:VCALENDAR