BEGIN:VCALENDAR
VERSION:2.0
PRODID:-//Plone.org//NONSGML plone.app.event//EN
X-WR-TIMEZONE:Europe/Madrid
BEGIN:VEVENT
SUMMARY:Ball de dissabte
DTSTART;TZID=Europe/Madrid;VALUE=DATE-TIME:20180331T183000
DTEND;TZID=Europe/Madrid;VALUE=DATE-TIME:20180331T193000
DTSTAMP;VALUE=DATE-TIME:20260423T203532Z
UID:6b6429029fe2aa067450003213f2298c
CREATED;VALUE=DATE-TIME:20180331T000000Z
CATEGORIES:Música
LOCATION:Ateneu Arenyenc - Anselm Clavé, 22
ORGANIZER:Ateneu Arenyenc
COMMENT:Preu: Soci 4 euros i no soci 5 euros
DESCRIPTION:Actuació de D.M. Ateneu
URL:https://arenysdemar.cat/document.php?id=34487
END:VEVENT
END:VCALENDAR