BEGIN:VCALENDAR
VERSION:2.0
PRODID:-//Plone.org//NONSGML plone.app.event//EN
X-WR-TIMEZONE:Europe/Madrid
BEGIN:VEVENT
SUMMARY:Visita guiada per a l'Etapa d'Infantil
DTSTART;TZID=Europe/Madrid;VALUE=DATE-TIME:20180309T153000
DTEND;TZID=Europe/Madrid;VALUE=DATE-TIME:20180309T163000
DTSTAMP;VALUE=DATE-TIME:20260423T150249Z
UID:2e73e6851d0540be2070715edd0e5d16
CREATED;VALUE=DATE-TIME:20180309T000000Z
CATEGORIES:Mostra
LOCATION:Col·legi La Presentació
ORGANIZER:Col·legi La Presentació
COMMENT:Durada: Fins a les 17h
DESCRIPTION:Tornem a l'escola
URL:https://arenysdemar.cat/document.php?id=34500
END:VEVENT
END:VCALENDAR