BEGIN:VCALENDAR
VERSION:2.0
PRODID:-//Plone.org//NONSGML plone.app.event//EN
X-WR-TIMEZONE:Europe/Madrid
BEGIN:VEVENT
SUMMARY:DO-IN. Exercicis terapèutics de Medicina Tradicional Xinesa
DTSTART;TZID=Europe/Madrid;VALUE=DATE-TIME:20180304T100000
DTEND;TZID=Europe/Madrid;VALUE=DATE-TIME:20180304T110000
DTSTAMP;VALUE=DATE-TIME:20260423T215033Z
UID:1c9f4c9afe947eb0a4420b26421407ec
CREATED;VALUE=DATE-TIME:20180304T000000Z
CATEGORIES:Esports
LOCATION:Espai Jove del C.C.Calisay - Riera del Pare Fita, 31
ORGANIZER:Banc del Temps d'Arenys de Mar i El millor metge ets tu
COMMENT:Preu: Col·laboració voluntària
Durada: També els diumenges 11, 18 i 25 març de 10 a 11 del matí
DESCRIPTION:a càrrec de l'Slobodan Jerkovic terapeuta de Shiatsu i Medicina Tradicional Xinesa
URL:https://arenysdemar.cat/document.php?id=34527
END:VEVENT
END:VCALENDAR