BEGIN:VCALENDAR
VERSION:2.0
PRODID:-//Plone.org//NONSGML plone.app.event//EN
X-WR-TIMEZONE:Europe/Madrid
BEGIN:VEVENT
SUMMARY:Conferència d'Agricultura: El futur de l'agricultura periurbana
DTSTART;TZID=Europe/Madrid;VALUE=DATE-TIME:20180320T180000
DTEND;TZID=Europe/Madrid;VALUE=DATE-TIME:20180320T190000
DTSTAMP;VALUE=DATE-TIME:20260420T170733Z
UID:2662882d597ca48ec3d4fda1a21a4206
CREATED;VALUE=DATE-TIME:20180320T000000Z
CATEGORIES:Conferència
LOCATION:Sala Josep Maria Arnau del C.C.Calisay - Riera del Pare Fita, 31
ORGANIZER:Aula d'Extensió Universitària
DESCRIPTION:a càrrec de Miquel Riera, pagés del Maresme
URL:https://arenysdemar.cat/document.php?id=34537
END:VEVENT
END:VCALENDAR