BEGIN:VCALENDAR
VERSION:2.0
PRODID:-//Plone.org//NONSGML plone.app.event//EN
X-WR-TIMEZONE:Europe/Madrid
BEGIN:VEVENT
SUMMARY:4a. Fira Internacional de Puntes
DTSTART;TZID=Europe/Madrid;VALUE=DATE-TIME:20180427T160000
DTEND;TZID=Europe/Madrid;VALUE=DATE-TIME:20180427T170000
DTSTAMP;VALUE=DATE-TIME:20260420T170903Z
UID:7b8d992e969d3d3a481cef25a19d64d6
CREATED;VALUE=DATE-TIME:20180427T000000Z
CATEGORIES:Exposició
LOCATION:Sala Polivalent del C.C.Calisay - Riera Pare Fita, 31
ORGANIZER:Museu d'Arenys de Mar-Ajuntament d'Arenys de Mar i Associació de Puntaires Flor d'Alba d'Arenys de Mar
COMMENT:Preu: Gratuït
Durada: Divendres 27 de 16 a 20h. Dissabte 28 de 10 a 14h i de 16 a 20h i Diumenge 29 de 10 a 14h.
URL:https://arenysdemar.cat/document.php?id=34546
END:VEVENT
END:VCALENDAR