BEGIN:VCALENDAR
VERSION:2.0
PRODID:-//Plone.org//NONSGML plone.app.event//EN
X-WR-TIMEZONE:Europe/Madrid
BEGIN:VEVENT
SUMMARY:Hora del conte especial Dia internacional de la dona 
DTSTART;TZID=Europe/Madrid;VALUE=DATE-TIME:20180308T180000
DTEND;TZID=Europe/Madrid;VALUE=DATE-TIME:20180308T190000
DTSTAMP;VALUE=DATE-TIME:20260424T061213Z
UID:e72981f2ecf17a6d423f3b5bc19a3ed2
CREATED;VALUE=DATE-TIME:20180308T000000Z
CATEGORIES:Literatura,Infantils
LOCATION:Sala d'Actes de la Biblioteca - C. Bonaire, 3
ORGANIZER:Biblioteca - Regidoria de Cultura
DESCRIPTION:a càrrec de Teresa Verdura
URL:https://arenysdemar.cat/document.php?id=34554
END:VEVENT
END:VCALENDAR